BEGIN:VCALENDAR
VERSION:2.0
PRODID:-//In Detail Directory - ECPv6.15.18//NONSGML v1.0//EN
CALSCALE:GREGORIAN
METHOD:PUBLISH
X-ORIGINAL-URL:https://www.indetaildirectory.com
X-WR-CALDESC:Events for In Detail Directory
REFRESH-INTERVAL;VALUE=DURATION:PT1H
X-Robots-Tag:noindex
X-PUBLISHED-TTL:PT1H
BEGIN:VTIMEZONE
TZID:UTC
BEGIN:STANDARD
TZOFFSETFROM:+0000
TZOFFSETTO:+0000
TZNAME:UTC
DTSTART:20240101T000000
END:STANDARD
END:VTIMEZONE
BEGIN:VEVENT
DTSTART;TZID=UTC:20250301T100000
DTEND;TZID=UTC:20250301T170000
DTSTAMP:20260421T160923
CREATED:20241203T165044Z
LAST-MODIFIED:20241203T165044Z
UID:17186-1740823200-1740848400@www.indetaildirectory.com
SUMMARY:BIRMINGHAM NEC
DESCRIPTION:The National Wedding Show is the UK’s largest and most well-known wedding planning event in the UK. With hundreds of suppliers ranging from bridal boutiques to florists\, photographers\, and cake designers\, the show provides a one-stop-shop for all your wedding needs. Explore the latest trends\, meet wedding industry experts\, and take advantage of exclusive deals and competitions.
URL:https://www.indetaildirectory.com/event/birmingham-nec/
ATTACH;FMTTYPE=image/webp:https://www.indetaildirectory.com/wp-content/uploads/2024/12/vip-rounded-2.webp
END:VEVENT
BEGIN:VEVENT
DTSTART;TZID=UTC:20250316T110000
DTEND;TZID=UTC:20250316T170000
DTSTAMP:20260421T160923
CREATED:20241203T165628Z
LAST-MODIFIED:20241203T165628Z
UID:17198-1742122800-1742144400@www.indetaildirectory.com
SUMMARY:Doncaster I Do Wedding Exhibition
DESCRIPTION:Visit the I Do Wedding Exhibition at our BRAND NEW location of Doncaster Dome in March 2025 and meet over 80 quality local wedding suppliers just waiting to help you with your wedding day.
URL:https://www.indetaildirectory.com/event/doncaster-i-do-wedding-exhibition/
ATTACH;FMTTYPE=image/jpeg:https://www.indetaildirectory.com/wp-content/uploads/2024/12/i-do-wedding-exhibitions-1727254866-300x300-1.jpg
END:VEVENT
END:VCALENDAR