BEGIN:VCALENDAR
VERSION:2.0
PRODID:-//In Detail Directory - ECPv6.15.18//NONSGML v1.0//EN
CALSCALE:GREGORIAN
METHOD:PUBLISH
X-WR-CALNAME:In Detail Directory
X-ORIGINAL-URL:https://www.indetaildirectory.com
X-WR-CALDESC:Events for In Detail Directory
REFRESH-INTERVAL;VALUE=DURATION:PT1H
X-Robots-Tag:noindex
X-PUBLISHED-TTL:PT1H
BEGIN:VTIMEZONE
TZID:UTC
BEGIN:STANDARD
TZOFFSETFROM:+0000
TZOFFSETTO:+0000
TZNAME:UTC
DTSTART:20240101T000000
END:STANDARD
END:VTIMEZONE
BEGIN:VEVENT
DTSTART;TZID=UTC:20250209T100000
DTEND;TZID=UTC:20250209T170000
DTSTAMP:20260421T172601
CREATED:20241203T164640Z
LAST-MODIFIED:20241203T164640Z
UID:17179-1739095200-1739120400@www.indetaildirectory.com
SUMMARY:Tilda Asiana Bridal Show London
DESCRIPTION:FREE Exhibition Entry from 10am. Meet 100+ wedding companies\, including bridal fashion designers\, hair\, make-up and mehndi artists\, photographers\, décor companies\, Djs\, florists and more. Last entry at 5.30pm. Event ends 7pm. Max 4 Tickets per registration. Same email address cannot be used for additional registrations.
URL:https://www.indetaildirectory.com/event/tilda-asiana-bridal-show-london/
ATTACH;FMTTYPE=image/jpeg:https://www.indetaildirectory.com/wp-content/uploads/2024/12/https___cdn.evbuc_.com_images_903913963_191933493086_1_original.jpeg
END:VEVENT
BEGIN:VEVENT
DTSTART;TZID=UTC:20250209T110000
DTEND;TZID=UTC:20250209T190000
DTSTAMP:20260421T172601
CREATED:20240704T045021Z
LAST-MODIFIED:20240704T045021Z
UID:16749-1739098800-1739127600@www.indetaildirectory.com
SUMMARY:The Eastside Rooms\, Birmingham
DESCRIPTION:Europe’s Largest Asian Wedding Show returns to The Eastside Room\, Birmingham. The Midlands largest Asian Wedding Show offers you ideas & inspiration for your big day. \nJoin us as we celebrate 20 years of inspiration at The National Asian Wedding Show! \nSunday 9th February 2025 \n  \n\n\nOpening Times\n\n\n\n11:00am – 7:00pm GMT\n\n\n\n\n\n\n\n\n\n\nCatwalk Times\n\n\n\n\nCatwalk Show 1: 12.30pm\nCatwalk Show 2: 3.30pm\nCatwalk Show 3: 6pm \n\n\n\n\n\n\n\n\n\n\n\nGetting There\n\n\n\n\nThe Eastside Rooms is conveniently located in Birmingham city centre\, with excellent national and international links. \nBy Car \nThe location is closely linked to the Midlands motorway network with the M6\, M42 and M5 all nearby\, with the M6 J6 just two miles away. \nBy Train \nBirmingham New Street Station is located just a 15-minute walk away from the venue and both Moor Street and Snow Hill are just 10-minutes away. \nBy Bus \nThe venue is located on the West Midlands Bus Route 66\, with a bus stop located ideally right outside of the venue. \n\n\n\n\n\n\n\n\n\n\n\nParking\n\n\n\n\nMillennium Point Multi-Storey Car Park (B4 7AP) which is located just across the road from The Eastside Rooms.
URL:https://www.indetaildirectory.com/event/the-eastside-rooms-birmingham/
END:VEVENT
BEGIN:VEVENT
DTSTART;TZID=UTC:20250209T110000
DTEND;TZID=UTC:20250209T190000
DTSTAMP:20260421T172601
CREATED:20241009T175559Z
LAST-MODIFIED:20241202T091554Z
UID:16966-1739098800-1739127600@www.indetaildirectory.com
SUMMARY:The Eastside Rooms\, Birmingham
DESCRIPTION:Europe’s Largest Asian Wedding Show returns to The Eastside Room\, Birmingham. The Midlands largest Asian Wedding Show offers you ideas & inspiration for your big day. \nJoin us as we celebrate 20 years of inspiration at The National Asian Wedding Show! \nSunday 9th February 2025
URL:https://www.indetaildirectory.com/event/the-eastside-rooms-birmingham-2/
ATTACH;FMTTYPE=image/jpeg:https://www.indetaildirectory.com/wp-content/uploads/2024/10/the-eastside-rooms-image-17139-main-big-3142023113134AM.jpg
END:VEVENT
BEGIN:VEVENT
DTSTART;TZID=UTC:20250223T110000
DTEND;TZID=UTC:20250223T190000
DTSTAMP:20260421T172601
CREATED:20240704T045301Z
LAST-MODIFIED:20241202T091858Z
UID:16751-1740308400-1740337200@www.indetaildirectory.com
SUMMARY:Radisson Blu Edwardian\, London Heathrow
DESCRIPTION:Europe’s Largest Asian Wedding Show returns to West London’s premier conference and events venue\, the prestigious Radisson Blu Edwardian Heathrow. With over 100 exhibitors and world class catwalk show\, its the perfect destination for you to plan your big day. \nJoin us as we celebrate 20 years of inspiration at The National Asian Wedding Show! \nSunday 23rd February 2025 \n  \n\n\nOpening Times\n\n\n\n11:00am – 7:00pm GMT\n\n\n\n\n\n\n\n\n\n\nCatwalk Times\n\n\n\n\nCatwalk Show 1: 12.30pm\nCatwalk Show 2: 3.30pm\nCatwalk Show 3: 6pm \n\n\n\n\n\n\n\n\n\n\n\nGetting There\n\n\n\n\nBy Bus \nHeathrow Hoppa Bus \nThe price of a single trip is £6.80 per adult with a return offering discount at £12. Family Ticket will increase to £13 single and £24 return. (A family group must consist of at least 1 adult & 1 child and no more than 2 adults & 3 children\, under 15) Please buy your ticket before travelling. Tickets are available using contactless means of payment on the bus or directly online via the website. \nTransport for London (TfL) \nTransport for London (TFL) no longer accept cash to pay for bus fares. However\, you will be able to pay with a Visitor Oyster card\, Oyster card\, Travelcard or UK-issued contactless payment card. \nBy Car\nTake junction 4 off the M4 and follow signs to Terminal 1\, 2 & 3. At the roundabout\, take the A4 exit on Bath Road. There are 550 car parking spaces at the hotel. The car parking rate is £16.00 per 24 hours. If using Sat Nav\, enter the following postcode: UB3 5AW. \nBy Train \nLondon Underground\nTake the Piccadilly Line to Hatton Cross. Once there\, leave the building and turn right. Go to the bus stop by the bridge and take the 285 bus heading towards Heathrow. Ask the driver for the Radisson Blu Edwardian hotel on Bath Road. You will pass our hotel on your right hand side and then arrive at the bus stop. Please cross the road and we are a two-minute walk away. Plan your journey with London Underground’s tube planner. \nMainland Train\nHeathrow Express is a fast-track train from Paddington to Terminal 1\, 2\, 3 & 4 and only takes approximately 15 minutes to get to/from central London. Take the Heathrow Express train to Terminals 1-3. There you can either take bus 111\, 285 or 140. Simply ask the driver for the Radisson Blu hotel on Bath Road. \n\n\n\n\n\n\n\n\n\n\n\nParking\n\n\n\n\nRadisson Blu Edwardian Heathrow Hotel & Conference Centre has an ANPR system in place. Therefore on arrival to the Hotel\, please pass through one of the ANPR Barriers. Once you have cleared the ANPR Barrier\, park in any designated available car space. You will not receive nor require any paper ticket or to leave your car keys with reception. When you check in\, please do ensure that you let reception know of your car registration number. Please note\, vehicles are parked at owner’s risk and the hotel accepts no responsibility for loss of or damage to personal property.
URL:https://www.indetaildirectory.com/event/radisson-blu-edwardian-london-heathrow/
ATTACH;FMTTYPE=image/jpeg:https://www.indetaildirectory.com/wp-content/uploads/2024/07/246585472.jpg
END:VEVENT
BEGIN:VEVENT
DTSTART;TZID=UTC:20250223T110000
DTEND;TZID=UTC:20250223T190000
DTSTAMP:20260421T172601
CREATED:20241009T175931Z
LAST-MODIFIED:20241009T175931Z
UID:16968-1740308400-1740337200@www.indetaildirectory.com
SUMMARY:Radisson Blu Edwardian\, London Heathrow
DESCRIPTION:Europe’s Largest Asian Wedding Show returns to West London’s premier conference and events venue\, the prestigious Radisson Blu Edwardian Heathrow. With over 100 exhibitors and world class catwalk show\, its the perfect destination for you to plan your big day. \nJoin us as we celebrate 20 years of inspiration at The National Asian Wedding Show! \nSunday 23rd February 2025
URL:https://www.indetaildirectory.com/event/radisson-blu-edwardian-london-heathrow-2/
END:VEVENT
END:VCALENDAR