BEGIN:VCALENDAR
VERSION:2.0
PRODID:-//In Detail Directory - ECPv6.15.18//NONSGML v1.0//EN
CALSCALE:GREGORIAN
METHOD:PUBLISH
X-ORIGINAL-URL:https://www.indetaildirectory.com
X-WR-CALDESC:Events for In Detail Directory
REFRESH-INTERVAL;VALUE=DURATION:PT1H
X-Robots-Tag:noindex
X-PUBLISHED-TTL:PT1H
BEGIN:VTIMEZONE
TZID:UTC
BEGIN:STANDARD
TZOFFSETFROM:+0000
TZOFFSETTO:+0000
TZNAME:UTC
DTSTART:20230101T000000
END:STANDARD
END:VTIMEZONE
BEGIN:VEVENT
DTSTART;TZID=UTC:20240131T080000
DTEND;TZID=UTC:20240131T170000
DTSTAMP:20260421T093728
CREATED:20240104T154014Z
LAST-MODIFIED:20240104T154044Z
UID:16438-1706688000-1706720400@www.indetaildirectory.com
SUMMARY:IDD Website Launch
DESCRIPTION:Test event
URL:https://www.indetaildirectory.com/event/idd-website-launch/
ATTACH;FMTTYPE=image/jpeg:https://www.indetaildirectory.com/wp-content/uploads/2018/04/IDD-LOGO.jpg
END:VEVENT
END:VCALENDAR