BEGIN:VCALENDAR
VERSION:2.0
PRODID:-//In Detail Directory - ECPv6.15.18//NONSGML v1.0//EN
CALSCALE:GREGORIAN
METHOD:PUBLISH
X-WR-CALNAME:In Detail Directory
X-ORIGINAL-URL:https://www.indetaildirectory.com
X-WR-CALDESC:Events for In Detail Directory
REFRESH-INTERVAL;VALUE=DURATION:PT1H
X-Robots-Tag:noindex
X-PUBLISHED-TTL:PT1H
BEGIN:VTIMEZONE
TZID:UTC
BEGIN:STANDARD
TZOFFSETFROM:+0000
TZOFFSETTO:+0000
TZNAME:UTC
DTSTART:20240101T000000
END:STANDARD
END:VTIMEZONE
BEGIN:VEVENT
DTSTART;TZID=UTC:20250921T100000
DTEND;TZID=UTC:20250921T170000
DTSTAMP:20260421T093542
CREATED:20241203T170946Z
LAST-MODIFIED:20241203T170946Z
UID:17207-1758448800-1758474000@www.indetaildirectory.com
SUMMARY:Sheffield I Do Wedding Exhibition
DESCRIPTION:Visit our wedding exhibition at BRAND NEW VENUE FOR 2025\, the Sheffield Canon Medical Arena! Coming next September\, meet over 80 quality local wedding suppliers just waiting to help you with your wedding day.
URL:https://www.indetaildirectory.com/event/sheffield-i-do-wedding-exhibition/
ATTACH;FMTTYPE=image/jpeg:https://www.indetaildirectory.com/wp-content/uploads/2024/12/i-do-wedding-exhibitions-1727254866-300x300-1.jpg
END:VEVENT
END:VCALENDAR