BEGIN:VCALENDAR
VERSION:2.0
PRODID:-//In Detail Directory - ECPv6.15.18//NONSGML v1.0//EN
CALSCALE:GREGORIAN
METHOD:PUBLISH
X-WR-CALNAME:In Detail Directory
X-ORIGINAL-URL:https://www.indetaildirectory.com
X-WR-CALDESC:Events for In Detail Directory
REFRESH-INTERVAL;VALUE=DURATION:PT1H
X-Robots-Tag:noindex
X-PUBLISHED-TTL:PT1H
BEGIN:VTIMEZONE
TZID:UTC
BEGIN:STANDARD
TZOFFSETFROM:+0000
TZOFFSETTO:+0000
TZNAME:UTC
DTSTART:20240101T000000
END:STANDARD
END:VTIMEZONE
BEGIN:VEVENT
DTSTART;TZID=UTC:20250608T110000
DTEND;TZID=UTC:20250608T150000
DTSTAMP:20260421T132645
CREATED:20250526T164450Z
LAST-MODIFIED:20250526T164450Z
UID:18331-1749380400-1749394800@www.indetaildirectory.com
SUMMARY:The Big Sheffield Wedding Show | Hillsborough Stadium
DESCRIPTION:See over 65 top wedding suppliers and two amazing catwalks as The UK Wedding Event returns to South Yorkshire.
URL:https://www.indetaildirectory.com/event/the-big-sheffield-wedding-show-hillsborough-stadium/
LOCATION:Hillsborough Stadium\, United Kingdom
ATTACH;FMTTYPE=image/avif:https://www.indetaildirectory.com/wp-content/uploads/2025/05/https___cdn.evbuc_.com_images_659420339_151798637031_1_original.avif
END:VEVENT
END:VCALENDAR