BEGIN:VCALENDAR
VERSION:2.0
PRODID:-//In Detail Directory - ECPv6.15.18//NONSGML v1.0//EN
CALSCALE:GREGORIAN
METHOD:PUBLISH
X-WR-CALNAME:In Detail Directory
X-ORIGINAL-URL:https://www.indetaildirectory.com
X-WR-CALDESC:Events for In Detail Directory
REFRESH-INTERVAL;VALUE=DURATION:PT1H
X-Robots-Tag:noindex
X-PUBLISHED-TTL:PT1H
BEGIN:VTIMEZONE
TZID:UTC
BEGIN:STANDARD
TZOFFSETFROM:+0000
TZOFFSETTO:+0000
TZNAME:UTC
DTSTART:20240101T000000
END:STANDARD
END:VTIMEZONE
BEGIN:VEVENT
DTSTART;TZID=UTC:20250604T093000
DTEND;TZID=UTC:20250604T170000
DTSTAMP:20260421T134042
CREATED:20250526T165145Z
LAST-MODIFIED:20250526T165145Z
UID:18343-1749029400-1749056400@www.indetaildirectory.com
SUMMARY:Wedding Pro Walk & Talk
DESCRIPTION:
URL:https://www.indetaildirectory.com/event/wedding-pro-walk-talk/
ATTACH;FMTTYPE=image/avif:https://www.indetaildirectory.com/wp-content/uploads/2025/05/https___cdn.evbuc_.com_images_962838293_30682998977_1_original.avif
END:VEVENT
END:VCALENDAR