BEGIN:VCALENDAR
VERSION:2.0
PRODID:-//In Detail Directory - ECPv6.15.18//NONSGML v1.0//EN
CALSCALE:GREGORIAN
METHOD:PUBLISH
X-WR-CALNAME:In Detail Directory
X-ORIGINAL-URL:https://www.indetaildirectory.com
X-WR-CALDESC:Events for In Detail Directory
REFRESH-INTERVAL;VALUE=DURATION:PT1H
X-Robots-Tag:noindex
X-PUBLISHED-TTL:PT1H
BEGIN:VTIMEZONE
TZID:UTC
BEGIN:STANDARD
TZOFFSETFROM:+0000
TZOFFSETTO:+0000
TZNAME:UTC
DTSTART:20240101T000000
END:STANDARD
END:VTIMEZONE
BEGIN:VEVENT
DTSTART;TZID=UTC:20250526T080000
DTEND;TZID=UTC:20250526T170000
DTSTAMP:20260421T133523
CREATED:20250526T164952Z
LAST-MODIFIED:20250526T164952Z
UID:18339-1748246400-1748278800@www.indetaildirectory.com
SUMMARY:The Bridal Edit
DESCRIPTION:This is for brides who want to feel like the best version themselves. A relaxed morning of beauty\, skin prep\, style inspiration\, and expert chats. \nWhat to expect: \nConsults with Sabrina – Make-Up\, Hair\, Lashes + Brows \nSkincare coaching + Consults with Cleo \nA chance to see Luna Bea dresses and new veil collection. \nAbi’s bespoke ear curation appointments. \nFlash handpoke tattoos by Beth (Indigo Forever Tattoos) – with wedding tattoo consults (TBC) \nFlorals by Bulb \nJewellery by Mollie Palling \nWhat’s included? \nCocktails \nEntry into a curated giveaway \nA goody bag with offers and treats from our favourite brands \nAll consults with artists are complimentary on the day. \n10% off retail*
URL:https://www.indetaildirectory.com/event/the-bridal-edit/
LOCATION:35 High Street Lewes BN7 2LU United Kingdom
ATTACH;FMTTYPE=image/avif:https://www.indetaildirectory.com/wp-content/uploads/2025/05/https___cdn.evbuc_.com_images_1017082833_2741305853721_1_original.avif
END:VEVENT
BEGIN:VEVENT
DTSTART;TZID=UTC:20250526T080000
DTEND;TZID=UTC:20250526T170000
DTSTAMP:20260421T133523
CREATED:20250526T170424Z
LAST-MODIFIED:20250526T170424Z
UID:18351-1748246400-1748278800@www.indetaildirectory.com
SUMMARY:Holdsworth House Wedding Fayre
DESCRIPTION:If you experience difficulty booking through our website\, order tickets using Eventbrite instead by clicking HERE.\nAbout The Show & Venue\nJoin us for an unforgettable wedding fayre at Holdsworth House in Halifax on Sunday 15th June 2025\, hosted by The UK Wedding Event. \nThis award-winning venue in West Yorkshire provides a stunning backdrop for your special day\, complete with beautiful grounds and enchanting spaces perfect for making lasting memories. \nThe show will feature a diverse array of wedding suppliers dedicated to bringing every couple’s vision to life\, whether you’re planning a grand celebration or an intimate gathering. \nYou will also have the opportunity to connect with the venue’s experienced events team to explore all the possibilities that perfectly match your dream wedding. \nEnjoy free admission\, a delightful sparkling reception\, and tote bags brimming with goodies\, all while taking advantage of complimentary parking. \nDon’t miss this opportunity to find inspiration in such a breathtaking setting! \nEvent Highlights\n\nFree Admission\nSparkling Reception\nTote Gift Bags & Goodies\n30 Top Wedding Suppliers\nFree Parking
URL:https://www.indetaildirectory.com/event/holdsworth-house-wedding-fayre/
ATTACH;FMTTYPE=image/jpeg:https://www.indetaildirectory.com/wp-content/uploads/2025/05/Holdsworth-House.jpg
END:VEVENT
BEGIN:VEVENT
DTSTART;TZID=UTC:20250526T080000
DTEND;TZID=UTC:20250526T170000
DTSTAMP:20260421T133523
CREATED:20250526T170601Z
LAST-MODIFIED:20250526T170601Z
UID:18354-1748246400-1748278800@www.indetaildirectory.com
SUMMARY:The UK Wedding Event | Hatfeild Hall | Sunday 22nd June 2025
DESCRIPTION:If you experience difficulty booking through our website\, order tickets using Eventbrite instead by clicking HERE.\nAbout The Show & Venue\nJoin us for our first-ever Wedding Fayre at the stunning Hatfeild Hall near Wakefield on Sunday\, 22nd June! \nBe inspired by 30 top wedding suppliers and discover everything you need to make your special day unforgettable. Admission is free from 11am\, and you can pre-book your tickets now. \nWhy Choose Hatfeild Hall for Your Wedding?\nSet in a breathtaking 18th-century building\, Hatfeild Hall offers a picturesque setting for your wedding. Approached via a long\, tree-lined driveway\, the venue’s views and photo opportunities provide the perfect backdrop to capture memories that will last a lifetime. \nA personal approach is guaranteed with only one wedding at a time hosted\, ensuring your event gets the exclusive attention it deserves. \nEvent Highlights\n\nFree Admission\nSparkling reception\nFree gift bags\nBridal Magazines\nAccess to leading wedding suppliers\nOne great historic venue\n\nShow Details\n\n\n\nHatfeild Hall Wedding Fayre\n Sun 22nd June 2025\n 11:00 am – 2:00 pm
URL:https://www.indetaildirectory.com/event/the-uk-wedding-event-hatfeild-hall-sunday-22nd-june-2025/
ATTACH;FMTTYPE=image/jpeg:https://www.indetaildirectory.com/wp-content/uploads/2025/05/hatfeild-hall-1920x590-1.jpg
END:VEVENT
END:VCALENDAR