BEGIN:VCALENDAR
VERSION:2.0
PRODID:-//In Detail Directory - ECPv6.15.18//NONSGML v1.0//EN
CALSCALE:GREGORIAN
METHOD:PUBLISH
X-WR-CALNAME:In Detail Directory
X-ORIGINAL-URL:https://www.indetaildirectory.com
X-WR-CALDESC:Events for In Detail Directory
REFRESH-INTERVAL;VALUE=DURATION:PT1H
X-Robots-Tag:noindex
X-PUBLISHED-TTL:PT1H
BEGIN:VTIMEZONE
TZID:UTC
BEGIN:STANDARD
TZOFFSETFROM:+0000
TZOFFSETTO:+0000
TZNAME:UTC
DTSTART:20240101T000000
END:STANDARD
END:VTIMEZONE
BEGIN:VEVENT
DTSTART;TZID=UTC:20250112T110000
DTEND;TZID=UTC:20250112T190000
DTSTAMP:20260421T202141
CREATED:20240521T110735Z
LAST-MODIFIED:20240521T110924Z
UID:16648-1736679600-1736708400@www.indetaildirectory.com
SUMMARY:The Cedar Court Hotel\, Bradford
DESCRIPTION:Europe’s Largest Asian Wedding Show returns to the Cedar Court Hotel\, Bradford.  Located just off the M606 with free parking\, Yorkshires largest Asian Wedding Show offers you ideas and inspiration for your big day. \n  \n  \n\n\nOpening Times\n\n\n\n11:00am – 7:00pm GMT\n\n\n\n\n\n\n\n\n\n\nCatwalk Times\n\n\n\n\nCatwalk Show 1: 12.30pm\nCatwalk Show 2: 3.30pm\nCatwalk Show 3: 6pm \n\n\n\n\n\n\n\n\n\n\n\nGetting There\n\n\n\n\nCar\nFrom J3 M606 0.2 miles\nFrom J26 M62 3.4 miles \nBus Routes: 680/635/643\nView More Information \nTrain stations\nBradford Interchange 2.7 miles \nPlane\nLeeds Bradford Airport 10.1 miles\nManchester Airport 48.9 miles
URL:https://www.indetaildirectory.com/event/the-cedar-court-hotel-bradford/
LOCATION:The Cedar Court Hotel\, Bradford BD5 8HT\, UK\, London\, United Kingdom
END:VEVENT
END:VCALENDAR