BEGIN:VCALENDAR
VERSION:2.0
PRODID:-//In Detail Directory - ECPv6.15.18//NONSGML v1.0//EN
CALSCALE:GREGORIAN
METHOD:PUBLISH
X-ORIGINAL-URL:https://www.indetaildirectory.com
X-WR-CALDESC:Events for In Detail Directory
REFRESH-INTERVAL;VALUE=DURATION:PT1H
X-Robots-Tag:noindex
X-PUBLISHED-TTL:PT1H
BEGIN:VTIMEZONE
TZID:UTC
BEGIN:STANDARD
TZOFFSETFROM:+0000
TZOFFSETTO:+0000
TZNAME:UTC
DTSTART:20240101T000000
END:STANDARD
END:VTIMEZONE
BEGIN:VEVENT
DTSTART;TZID=UTC:20250104T100000
DTEND;TZID=UTC:20250104T170000
DTSTAMP:20260421T161625
CREATED:20241203T171109Z
LAST-MODIFIED:20241203T171109Z
UID:17210-1735984800-1736010000@www.indetaildirectory.com
SUMMARY:Ashfield House Wedding Fair Weekend - 4th January 2025
DESCRIPTION:We’d love you to join us at our weekend Wedding Fair at the multi-award-winning Ashfield House on Saturday 4th and Sunday 5th January\, where we have two days packed full of wedding planning inspiration – and no two days are the same! \nWhether you’re newly engaged and venue hunting\, or deep into wedding planning mode\, this is the Wedding Fair for you! We will have mostly different exhibitors each day\, so if you visit on the Saturday and the Sunday you won’t be meeting the same businesses. You can also pick up your free copy of the BRAND NEW 2025 Little White Books Magazine – absolutely FREE! \nWe also are giving away a FREE cotton goody bag for every couple – perfect for keeping all the Wedmin together in one handy place! \nMeet around 20 exhibitors each day. No pre-registration required\, no tickets required\, walk-ins always welcome – but if you want to be super-efficient then just pre-register below so you don’t have to do it on the day.
URL:https://www.indetaildirectory.com/event/ashfield-house-wedding-fair-weekend-4th-january-2025/
ATTACH;FMTTYPE=image/jpeg:https://www.indetaildirectory.com/wp-content/uploads/2024/12/1732548014-1305360596-ashfield-house-wedding-fair-weekend.jpg
END:VEVENT
END:VCALENDAR