BEGIN:VCALENDAR
VERSION:2.0
PRODID:-//In Detail Directory - ECPv6.15.18//NONSGML v1.0//EN
CALSCALE:GREGORIAN
METHOD:PUBLISH
X-WR-CALNAME:In Detail Directory
X-ORIGINAL-URL:https://www.indetaildirectory.com
X-WR-CALDESC:Events for In Detail Directory
REFRESH-INTERVAL;VALUE=DURATION:PT1H
X-Robots-Tag:noindex
X-PUBLISHED-TTL:PT1H
BEGIN:VTIMEZONE
TZID:UTC
BEGIN:STANDARD
TZOFFSETFROM:+0000
TZOFFSETTO:+0000
TZNAME:UTC
DTSTART:20230101T000000
END:STANDARD
END:VTIMEZONE
BEGIN:VEVENT
DTSTART;TZID=UTC:20241117T110000
DTEND;TZID=UTC:20241117T110000
DTSTAMP:20260421T145944
CREATED:20240521T105434Z
LAST-MODIFIED:20240521T105434Z
UID:16645-1731841200-1731841200@www.indetaildirectory.com
SUMMARY:Novotel Hammersmith\, London
DESCRIPTION:Europe’s Largest Asian Wedding Show returns to the iconic Novotel London Hammersmith for its annual flagship event that attracts over 100 exhibitors and thousands of visitors. The ultimate wedding shopping experience all under one roof.
URL:https://www.indetaildirectory.com/event/novotel-hammersmith-london/
LOCATION:Novotel Hammersmith\, London\, United Kingdom
END:VEVENT
END:VCALENDAR