BEGIN:VCALENDAR
VERSION:2.0
PRODID:-//In Detail Directory - ECPv6.15.18//NONSGML v1.0//EN
CALSCALE:GREGORIAN
METHOD:PUBLISH
X-WR-CALNAME:In Detail Directory
X-ORIGINAL-URL:https://www.indetaildirectory.com
X-WR-CALDESC:Events for In Detail Directory
REFRESH-INTERVAL;VALUE=DURATION:PT1H
X-Robots-Tag:noindex
X-PUBLISHED-TTL:PT1H
BEGIN:VTIMEZONE
TZID:UTC
BEGIN:STANDARD
TZOFFSETFROM:+0000
TZOFFSETTO:+0000
TZNAME:UTC
DTSTART:20230101T000000
END:STANDARD
END:VTIMEZONE
BEGIN:VEVENT
DTSTART;TZID=UTC:20241107T110000
DTEND;TZID=UTC:20241107T190000
DTSTAMP:20260421T144702
CREATED:20241009T175316Z
LAST-MODIFIED:20241009T175316Z
UID:16962-1730977200-1731006000@www.indetaildirectory.com
SUMMARY:Novotel Hammersmith\, London
DESCRIPTION:The National Asian Wedding Show is making a grand return with its flagship show to Novotel London West in Hammersmith. This much-anticipated event will once again showcase the best in bridal fashion\, luxury décor\, and premium wedding services. Join us for an unforgettable experience celebrating the epitome of elegance and cultural richness in wedding planning. \nJoin us as we celebrate 20 years of inspiration at The National Asian Wedding Show! \nSunday 17th November 2024
URL:https://www.indetaildirectory.com/event/novotel-hammersmith-london-2/
END:VEVENT
END:VCALENDAR