BEGIN:VCALENDAR
VERSION:2.0
PRODID:-//In Detail Directory - ECPv6.15.18//NONSGML v1.0//EN
CALSCALE:GREGORIAN
METHOD:PUBLISH
X-ORIGINAL-URL:https://www.indetaildirectory.com
X-WR-CALDESC:Events for In Detail Directory
REFRESH-INTERVAL;VALUE=DURATION:PT1H
X-Robots-Tag:noindex
X-PUBLISHED-TTL:PT1H
BEGIN:VTIMEZONE
TZID:UTC
BEGIN:STANDARD
TZOFFSETFROM:+0000
TZOFFSETTO:+0000
TZNAME:UTC
DTSTART:20230101T000000
END:STANDARD
END:VTIMEZONE
BEGIN:VEVENT
DTSTART;TZID=UTC:20241027T110000
DTEND;TZID=UTC:20241027T190000
DTSTAMP:20260421T133721
CREATED:20241009T180230Z
LAST-MODIFIED:20241009T180230Z
UID:16970-1730026800-1730055600@www.indetaildirectory.com
SUMMARY:The Luxury Asian Wedding Show
DESCRIPTION:This exclusive Luxury Asian Wedding Show will be hosted at Marriott London\, Grosvenor Square\, Mayfair\, a prestigious 5 star venue. Centrally located and with great public transport links\, the event will showcase influencers in the wedding industry. Experts in bridal fashion\, floral design\, photography\, specialist cakes and catering\, and entertainment will all be exhibiting in this stunning\, state of the art venue.
URL:https://www.indetaildirectory.com/event/the-luxury-asian-wedding-show/
END:VEVENT
END:VCALENDAR